BEGIN:VCALENDAR
VERSION:2.0
PRODID:-//ABBL - ECPv5.1.6//NONSGML v1.0//EN
CALSCALE:GREGORIAN
METHOD:PUBLISH
X-WR-CALNAME:ABBL
X-ORIGINAL-URL:https://www.abbl.lu
X-WR-CALDESC:Events for ABBL
BEGIN:VTIMEZONE
TZID:Europe/Luxembourg
BEGIN:DAYLIGHT
TZOFFSETFROM:+0100
TZOFFSETTO:+0200
TZNAME:CEST
DTSTART:20210328T010000
END:DAYLIGHT
BEGIN:STANDARD
TZOFFSETFROM:+0200
TZOFFSETTO:+0100
TZNAME:CET
DTSTART:20211031T010000
END:STANDARD
END:VTIMEZONE
BEGIN:VEVENT
DTSTART;VALUE=DATE:20210526
DTEND;VALUE=DATE:20210529
DTSTAMP:20210423T113148
CREATED:20210216T145604Z
LAST-MODIFIED:20210406T084519Z
UID:20171-1621987200-1622246399@www.abbl.lu
SUMMARY:Annual Conference on Law and Sustainable Finance in the EU 2021
DESCRIPTION:The Academy of European Law (ERA) invites you to its Annual Conference on Law and Sustainable Finance in the EU 2021. \nKey Topics\nMore details will follow soon. \nDetails\n\nOnline\n26 May 2021 – 28 May 2021\nLanguage: English\nYou will be able to interact immediately and directly with the speakers and other participants.\n\nRegistration\nAs an ABBL member\, you can take advantage of a 25% discount\, which can be combined with the early bird discount where applicable. In order to redeem the voucher\, please select the price in the “Discount Voucher” and enter the code 2021ABBL in the commentary field. \nRegister here \nShare this:Tweet
URL:https://www.abbl.lu/events/annual-conference-on-law-and-sustainable-finance-in-the-eu-2021/
LOCATION:Webinar\, 1468\, Luxembourg
ORGANIZER;CN="ERA":MAILTO:info@era.int
END:VEVENT
END:VCALENDAR