BEGIN:VCALENDAR
VERSION:2.0
PRODID:-//ABBL - ECPv5.1.6//NONSGML v1.0//EN
CALSCALE:GREGORIAN
METHOD:PUBLISH
X-WR-CALNAME:ABBL
X-ORIGINAL-URL:https://www.abbl.lu
X-WR-CALDESC:Events for ABBL
BEGIN:VTIMEZONE
TZID:Europe/Luxembourg
BEGIN:DAYLIGHT
TZOFFSETFROM:+0100
TZOFFSETTO:+0200
TZNAME:CEST
DTSTART:20210328T010000
END:DAYLIGHT
BEGIN:STANDARD
TZOFFSETFROM:+0200
TZOFFSETTO:+0100
TZNAME:CET
DTSTART:20211031T010000
END:STANDARD
END:VTIMEZONE
BEGIN:VEVENT
DTSTART;TZID=Europe/Luxembourg:20210317T090000
DTEND;TZID=Europe/Luxembourg:20210317T110000
DTSTAMP:20210423T112913
CREATED:20210211T132356Z
LAST-MODIFIED:20210216T093910Z
UID:20162-1615971600-1615978800@www.abbl.lu
SUMMARY:COVID-19: a catalyst for electronic signatures [Webinar in FRENCH]
DESCRIPTION:The Association européenne pour le droit bancaire et financier Luxembourg (AEDBF Luxembourg) invites you to a free webinar on Wednesday 17 March\, from 9:00 to 11:00\, on the subjet “COVID-19: a catalyst for electronic signature”. \nThe webinar is aimed at an informed audience of specialists in contract law\, particularly within the banking\, financial or commercial sector\, whether they are bankers\, bank or corporate lawyers\, professionals of the financial or commercial sector and lawyers. as well as all people wishing to deepen their expertise in this field. \nProgram\n\n9:00 a.m. Welcome by Marie-Paule GILLEN\, AEDBF Luxembourg President\n9:10 a.m. Introductory remarks – Remote signatures: coexistence and progressive transition from signature par correspondance to electronic signature\, by Alexandre CANTO – Senior Jurist\, European Investment Bank (in charge of legal issued associated with signatures). He will concentrate on issued traditionally encountered with remote signatures and the different means established to effectuate them\, particularly in the context of managing the COVID-19 crisis.\n9:30 a.m. The legal framework applicable to electronic signatures under European and Luxembourg law\, Gary CYWIE – Avocat à la Cour\, Elvinger Hoss Prussen\, Luxembourg. He will present and explain the differences between different types of electronic signatures from a practical perspective as well as that of their respective legal effects.\n10:10 a.m. The main problems encountered in practice with electronic signatures\, by Eric CAPRIOLI – Doctor of Law\, Caprioli & Associés\, Paris. As an author of numerous publications on the subject\, he will give us the benefit of his practical experience in providing legal counsel as well as litigating issues associated with electronic signatures.\n10:50 a.m. Participant questions\n11:00 a.m. Conference closure\n\nRegistration\nThe conference (in French) is hosted and broadcast by DSM Avocats à la Cour. AEDBF Luxembourg conferences are normally paid for\, but given the current situation this webinar is free. The number of places is limited to 250 participants. \nRegister here \nThe videoconference link will be sent to you by email following your registration and on the day of the webinar. \nShare this:Tweet
URL:https://www.abbl.lu/events/covid-19-a-catalyst-for-electronic-signatures-webinar-in-french/
LOCATION:Virtual Conference (webinar)
CATEGORIES:Conference
ATTACH;FMTTYPE=image/png:https://www.abbl.lu/content/uploads/2021/02/aedbf-luxembourg.png
END:VEVENT
END:VCALENDAR