BEGIN:VCALENDAR
VERSION:2.0
PRODID:-//ABBL - ECPv5.1.6//NONSGML v1.0//EN
CALSCALE:GREGORIAN
METHOD:PUBLISH
X-WR-CALNAME:ABBL
X-ORIGINAL-URL:https://www.abbl.lu
X-WR-CALDESC:Events for ABBL
BEGIN:VTIMEZONE
TZID:Europe/Luxembourg
BEGIN:DAYLIGHT
TZOFFSETFROM:+0100
TZOFFSETTO:+0200
TZNAME:CEST
DTSTART:20210328T010000
END:DAYLIGHT
BEGIN:STANDARD
TZOFFSETFROM:+0200
TZOFFSETTO:+0100
TZNAME:CET
DTSTART:20211031T010000
END:STANDARD
END:VTIMEZONE
BEGIN:VEVENT
DTSTART;TZID=Europe/Luxembourg:20210301T110000
DTEND;TZID=Europe/Luxembourg:20210301T120000
DTSTAMP:20210423T112815
CREATED:20210216T155637Z
LAST-MODIFIED:20210217T090426Z
UID:20173-1614596400-1614600000@www.abbl.lu
SUMMARY:Employment and salaries of men and women in Luxembourg - despite progress\, inequalities remain
DESCRIPTION:In the context of the International Women’s Rights Day\, the STATEC is organising on the 1st of March a conference on the salaries of women and men. In the presence of the of the responsible minister\, Taina Bofferding\, speakers will explain the issues as well as the means made available to companies to ensure gender equality at work. \nIn addition\, the STATEC will publish views on the employment and salaries of men and women in Luxembourg. The aim of the economic seminar will be to present the main results: \n\nOnly 38% of employees are women\nWomen are still concentrated in some sectors and almost absent in others\nIf women have made significant progress in management positions\, very high salaries seem to remain with them inaccessible\nAlong with Romania\, Luxembourg has the lowest pay gap of the European Union\n\nThe ABBL strongly supports this event and believes that diversity is no longer regarded as simply a human resources issue limited to fair hiring perspectives. It has become a strategic business issue as it can contribute to corporate strategy and effectiveness\, and there is undoubtedly a positive relationship between financial performance and greater diversity in leadership. \nRegistration\nThis event will be in French\, on the 1st of March\, from 11:00 to 12:00. It will be held in the form of a webinar via the platform Skype for Business. \nPlease register before 23 February 2021 by sending an email to inscription@statec.etat.lu. \nThe link to connect to the meeting will be sent to you later. \nShare this:Tweet
URL:https://www.abbl.lu/events/employment-and-salaries-of-men-and-women-in-luxembourg-despite-progress-inequalities-remain/
LOCATION:Virtual Conference (webinar)
CATEGORIES:Seminar
ATTACH;FMTTYPE=image/jpeg:https://www.abbl.lu/content/uploads/2021/02/International-Womens-Day.jpg
ORGANIZER;CN="STATEC":MAILTO:inscription@statec.etat.lu
END:VEVENT
END:VCALENDAR