BEGIN:VCALENDAR
VERSION:2.0
PRODID:-//ABBL - ECPv5.1.6//NONSGML v1.0//EN
CALSCALE:GREGORIAN
METHOD:PUBLISH
X-WR-CALNAME:ABBL
X-ORIGINAL-URL:https://www.abbl.lu
X-WR-CALDESC:Events for ABBL
BEGIN:VTIMEZONE
TZID:Europe/Luxembourg
BEGIN:DAYLIGHT
TZOFFSETFROM:+0100
TZOFFSETTO:+0200
TZNAME:CEST
DTSTART:20210328T010000
END:DAYLIGHT
BEGIN:STANDARD
TZOFFSETFROM:+0200
TZOFFSETTO:+0100
TZNAME:CET
DTSTART:20211031T010000
END:STANDARD
END:VTIMEZONE
BEGIN:VEVENT
DTSTART;TZID=Europe/Luxembourg:20210302T120000
DTEND;TZID=Europe/Luxembourg:20210302T140000
DTSTAMP:20210423T112828
CREATED:20210211T085756Z
LAST-MODIFIED:20210217T085605Z
UID:20158-1614686400-1614693600@www.abbl.lu
SUMMARY:Homeworking and regulation [Webinar in FRENCH]
DESCRIPTION:The Covid-19 pandemic was for most of 2020 a disruptive element in many respects\, including social aspects. In social and labor law\, more than 20 laws and 100 Grand-Ducal regulations over a period of less than one year have been voted and continue to be adopted. \nAmong these legal provisions is the Grand-Ducal Regulation of 22 January 2021 declaring the general obligation of the agreement of 20 October 2020 on the legal regime for homeworking. \nWith the special issue of the Practical Review of Social Law on the theme of homeworking which has just been published\, the editorial committee wished to bring together the various players in the market in order to collect their vision\, on the occasion of an online round table on Tuesday 2 March\, from 12:00 to 14:00. The webinar will be in French. \n\nSpeakers\n\nCristelle Cervellati Bretnacher (ABBL)\nJean-Pierre Faber (CSSF)\nChristophe Knebeler (LCGB)\nFrederic Krier (OGBL)\nRoberto. Mendolia (ALEBA)\nJean-Paul Olinger (Union des Entreprises Luxembourgeoises – UEL)\nJean-Luc Putz\, magistrate and member of the editorial board of the Practical Review of Social Law\n\nModerators : Yuri Auffinger\, editor-in-chief and Laurent Chapelle \nAttend the webinar and get 15% off your subscription to the Practical Review of Social Law. \nRegister here \nShare this:Tweet
URL:https://www.abbl.lu/events/homeworking-and-regulation-webinar-in-french/
LOCATION:Virtual Conference (webinar)
ATTACH;FMTTYPE=image/png:https://www.abbl.lu/content/uploads/2021/02/Revue.png
END:VEVENT
END:VCALENDAR