BEGIN:VCALENDAR
VERSION:2.0
PRODID:-//ABBL - ECPv5.1.6//NONSGML v1.0//EN
CALSCALE:GREGORIAN
METHOD:PUBLISH
X-WR-CALNAME:ABBL
X-ORIGINAL-URL:https://www.abbl.lu
X-WR-CALDESC:Events for ABBL
BEGIN:VTIMEZONE
TZID:Europe/Luxembourg
BEGIN:DAYLIGHT
TZOFFSETFROM:+0100
TZOFFSETTO:+0200
TZNAME:CEST
DTSTART:20210328T010000
END:DAYLIGHT
BEGIN:STANDARD
TZOFFSETFROM:+0200
TZOFFSETTO:+0100
TZNAME:CET
DTSTART:20211031T010000
END:STANDARD
END:VTIMEZONE
BEGIN:VEVENT
DTSTART;TZID=Europe/Luxembourg:20210512T120000
DTEND;TZID=Europe/Luxembourg:20210512T133000
DTSTAMP:20210423T113137
CREATED:20210406T095011Z
LAST-MODIFIED:20210406T095011Z
UID:20335-1620820800-1620826200@www.abbl.lu
SUMMARY:Human Rights Compliance in the Financial Sector
DESCRIPTION:The Academy of European Law (ERA) invites you to a workshop on the intersection of human rights and financial services and the growing role of societal values and interests in finance. It will address human rights as an aspect of sustainability and how recent policy initiatives and investor expectations have resulted in a need for transparency about business dealings with third parties\, including the financial sector\, and ensuing due diligence requirements. \nThis event is part of a series of online workshop of 90 minutes each about Regulatory Compliance in the EU Financial Sector\, which will address topical issues and problems in banking\, financial services\, fund and investment compliance\, both at the conceptual and practical levels. It will also update practitioners on emerging trends and complexities in the regulatory and supervisory framework applicable to the process of raising and investing capital in the EU. \nDetails\n\nOnline\n12 May 2021\nLanguage: English\nYou will be able to interact immediately and directly with the speakers and other participants.\n\nRegistration\nAs an ABBL member\, you can take advantage of a 25% discount\, which can be combined with the early bird discount where applicable. In order to redeem the voucher\, please select the price in the “Discount Voucher” and enter the code 2021ABBL in the commentary field. \nRegister here \nShare this:Tweet
URL:https://www.abbl.lu/events/human-rights-compliance-in-the-financial-sector/
LOCATION:Virtual Conference (webinar)
ORGANIZER;CN="ERA":MAILTO:info@era.int
END:VEVENT
END:VCALENDAR