BEGIN:VCALENDAR
VERSION:2.0
PRODID:-//ABBL - ECPv5.1.6//NONSGML v1.0//EN
CALSCALE:GREGORIAN
METHOD:PUBLISH
X-WR-CALNAME:ABBL
X-ORIGINAL-URL:https://www.abbl.lu
X-WR-CALDESC:Events for ABBL
BEGIN:VTIMEZONE
TZID:Europe/Luxembourg
BEGIN:DAYLIGHT
TZOFFSETFROM:+0100
TZOFFSETTO:+0200
TZNAME:CEST
DTSTART:20210328T010000
END:DAYLIGHT
BEGIN:STANDARD
TZOFFSETFROM:+0200
TZOFFSETTO:+0100
TZNAME:CET
DTSTART:20211031T010000
END:STANDARD
END:VTIMEZONE
BEGIN:VEVENT
DTSTART;TZID=Europe/Luxembourg:20210330T160000
DTEND;TZID=Europe/Luxembourg:20210330T173000
DTSTAMP:20210423T113037
CREATED:20210308T081722Z
LAST-MODIFIED:20210308T084721Z
UID:20247-1617120000-1617125400@www.abbl.lu
SUMMARY:Luxembourg and Wisconsin: The Future of Banking [Webinar]
DESCRIPTION:The Luxembourg Chamber of Commerce\, in association with the Ministry of the Economy\, Luxinnovation and the Wisconsin Economic Development Corporation\, is organising a series of webinars with focus on water management\, fintech and startups. The ABBL’s Fintech and Innovation Forum will take part in the roundtable about the Future of Banking\, together with the Wisconsin Bankers Association\, Luxhub and Fiserv. The panel of experts will be followed by an open discussion and a Q&A session. \nAn historic bond between Luxembourg and Wisconsin\nBilateral relations between Luxembourg and the United States are based on a common history that dates back to the 19th century with the emigration of nearly one-third of Luxembourg citizens to the United States\, especially to the Village of Luxemburg (Official name: http://www.luxemburgusa.com) in the State of Wisconsin. Today\, a community of 350\,000 Americans with Luxembourg ancestry live and work in Wisconsin\, and in certain areas Lëtzebuergesch is still spoken. The historic bond between Luxembourg and Wisconsin continues to this day to contribute to strong bilateral trade and economic relations with expanding fields of cooperation. \nGiven the historic bond between Luxembourg and Wisconsin\, Luxembourg companies already exporting to this market benefit from the attachment the people in Wisconsin feel towards Luxembourg and its products. \nRegistration\nHere is the agenda of the webinars. You are invited to register for all or any one of the sessions. \nShare this:Tweet
URL:https://www.abbl.lu/events/luxembourg-and-wisconsin-the-future-of-banking-webinar/
LOCATION:Virtual Conference (webinar)
ATTACH;FMTTYPE=image/jpeg:https://www.abbl.lu/content/uploads/2021/03/USA-luxembourg.jpg
END:VEVENT
END:VCALENDAR