BEGIN:VCALENDAR
VERSION:2.0
PRODID:-//ABBL - ECPv5.1.6//NONSGML v1.0//EN
CALSCALE:GREGORIAN
METHOD:PUBLISH
X-WR-CALNAME:ABBL
X-ORIGINAL-URL:https://www.abbl.lu
X-WR-CALDESC:Events for ABBL
BEGIN:VTIMEZONE
TZID:Europe/Luxembourg
BEGIN:DAYLIGHT
TZOFFSETFROM:+0100
TZOFFSETTO:+0200
TZNAME:CEST
DTSTART:20210328T010000
END:DAYLIGHT
BEGIN:STANDARD
TZOFFSETFROM:+0200
TZOFFSETTO:+0100
TZNAME:CET
DTSTART:20211031T010000
END:STANDARD
END:VTIMEZONE
BEGIN:VEVENT
DTSTART;VALUE=DATE:20210324
DTEND;VALUE=DATE:20210327
DTSTAMP:20210423T113016
CREATED:20210216T145309Z
LAST-MODIFIED:20210216T145343Z
UID:20170-1616544000-1616803199@www.abbl.lu
SUMMARY:Market Abuse in the EU: Latest Developments
DESCRIPTION:The Academy of European Law (ERA) invites you to an online seminar about Market Abuse in the EU: Latest Developments\, which will give an overview of the latest developments in the EU regulatory regime to prevent market abuse centered on the recently published outcomes of the ESMA MAR review. \nIt will look at the current regulatory framework for market abuse and its enforcement and provide a comprehensive update on the latest regulatory and compliance trends in this field.\nKey Topics\n\nBenchmark provisions and the interplay between MAR and collective investment undertakings\nInsider-dealing and disclosure\nPre-hedging: risks of market abuse and of violation of conduct rules\nBuy-back programmes\nInsider lists and managers’ transactions\nCross-market order book surveillance\nCross-border enforcement of sanctions and administrative sanctions\nRetention of personal data\n\nDetails\n\nOnline\n24 March 2021 – 26 March 2021\nLanguage: English\nYou will be able to interact immediately and directly with the speakers and other participants.\n\nRegistration\nAs an ABBL member\, you can take advantage of a 25% discount\, which can be combined with the early bird discount where applicable. In order to redeem the voucher\, please select the price in the “Discount Voucher” and enter the code 2021ABBL in the commentary field. \nRegister here \nShare this:Tweet
URL:https://www.abbl.lu/events/market-abuse-in-the-eu-latest-developments-2/
LOCATION:Virtual Conference (webinar)
CATEGORIES:Conference
END:VEVENT
END:VCALENDAR