BEGIN:VCALENDAR
VERSION:2.0
PRODID:-//ABBL - ECPv5.1.6//NONSGML v1.0//EN
CALSCALE:GREGORIAN
METHOD:PUBLISH
X-WR-CALNAME:ABBL
X-ORIGINAL-URL:https://www.abbl.lu
X-WR-CALDESC:Events for ABBL
BEGIN:VTIMEZONE
TZID:Europe/Luxembourg
BEGIN:DAYLIGHT
TZOFFSETFROM:+0100
TZOFFSETTO:+0200
TZNAME:CEST
DTSTART:20210328T010000
END:DAYLIGHT
BEGIN:STANDARD
TZOFFSETFROM:+0200
TZOFFSETTO:+0100
TZNAME:CET
DTSTART:20211031T010000
END:STANDARD
END:VTIMEZONE
BEGIN:VEVENT
DTSTART;TZID=Europe/Luxembourg:20210414T080000
DTEND;TZID=Europe/Luxembourg:20210623T170000
DTSTAMP:20210423T113101
CREATED:20210216T143939Z
LAST-MODIFIED:20210216T144439Z
UID:20168-1618387200-1624467600@www.abbl.lu
SUMMARY:Regulatory Compliance in the EU Financial Sector [Series of workshops]
DESCRIPTION:The Academy of European Law (ERA) introduces a series of six online workshops on Regulatory Compliance in the EU Financial Sector. \nProgramme\nEach workshop (90 minutes) will examine one particular angle within this topic: \n\n14 April 2021: The New Industrial Strategy for Europe\n28 April 2021: Human rights compliance in the financial sector\n12 May 2021: Green compliance and the European Green Deal\n26 May 2021: Critical infrastructure\, strategic value chains and national security compliance\n9 June 2021: Subsidies in the financial sector\n23 June 2021: Anti-corruption compliance\n\nDetails\n\nOnline\n14 April 2021 – 23 June 2021\nLanguage: English\n\nRegistration\nThe series is available at a one-off subscription fee that will give you access to all six workshops. As an ABBL member\, you can take advantage of a 25% discount\, which can be combined with the early bird discount where applicable. In order to redeem the voucher\, please select the price in the “Discount Voucher” and enter the code 2021ABBL in the commentary field. \nRegister here \nShare this:Tweet
URL:https://www.abbl.lu/events/regulatory-compliance-in-the-eu-financial-sector-series-of-workshops/
LOCATION:Virtual Conference (webinar)
ORGANIZER;CN="ERA":MAILTO:info@era.int
END:VEVENT
END:VCALENDAR