BEGIN:VCALENDAR
VERSION:2.0
PRODID:-//ABBL - ECPv5.1.6//NONSGML v1.0//EN
CALSCALE:GREGORIAN
METHOD:PUBLISH
X-WR-CALNAME:ABBL
X-ORIGINAL-URL:https://www.abbl.lu
X-WR-CALDESC:Events for ABBL
BEGIN:VTIMEZONE
TZID:Europe/Luxembourg
BEGIN:DAYLIGHT
TZOFFSETFROM:+0100
TZOFFSETTO:+0200
TZNAME:CEST
DTSTART:20210328T010000
END:DAYLIGHT
BEGIN:STANDARD
TZOFFSETFROM:+0200
TZOFFSETTO:+0100
TZNAME:CET
DTSTART:20211031T010000
END:STANDARD
END:VTIMEZONE
BEGIN:VEVENT
DTSTART;TZID=Europe/Luxembourg:20210323T090000
DTEND;TZID=Europe/Luxembourg:20210323T121500
DTSTAMP:20210423T112953
CREATED:20210315T152433Z
LAST-MODIFIED:20210315T152527Z
UID:20262-1616490000-1616501700@www.abbl.lu
SUMMARY:Sustainable Finance: Sounding good or doing good? [Webinar]
DESCRIPTION:The Faculty of Law\, Economics and Finance of the University of Luxembourg\, in collaboration with EY Luxembourg\, invites you to an online seminar about sustainable finance\, on Tuesday 23 March 2021\, from 9:00 am to 12:15 pm . This online event will feature presentations from academic researchers in the field\, as well as two panel discussions with industry practitioners. The aim is to give insights into the most debated topics and provide answers and guidance. \nThis event is organised in the framework of the Sustainable Finance Chair\, which is support- ed by the Ministry of Finance and the Ministry of Environment\, Climate and Sustainable Development. \nProgramme\nOne part focusses on a microeconomic perspective of sustainable investments and corporate finance and the critical role of the financial services industry (banks\, investment funds\, auditors\, rating agencies etc.) in financing and monitoring sustainable investments. \nThe second part will look from macroeconomic view featuring topics such as remedying externalities\, and the consequences on the allocation of capital\, the stability of the financial system and prudent regulation. \n9:00 Introductory words\nProf. Ulf von Lilienfeld-Toal\, Head of the Department of Finance\, University of Luxembourg\n9:05 Climate\, Energy\, and Finance: how late are we?\nThomas Gibon\, LIST\n9:25 Panel 1: Sustainable Finance: Microeconomics\, Corporate Finance and Investment Management\nIntroductory words and moderation by Dr. Peter Mathis\, University of Luxembourg\nRenaud Breyer\, EY\nMarc Daubenfeld\, Glacier Capital\nMaxim Strauss\, Cargolux\n10:25 Panel 2: Macroeconomics and Regulation of Climate\nIntroductory words and moderation by Dr. François Koulischer\, University of Luxembourg\nNicoletta Centofanti\, LSFI\nMaarten Vleeschhouwer\, 2 Degree Investing Initiative\nClaude Wampach\, CSSF\nNatalie Westerbarkey\, Fidelity International\n11:25 Keynote speech: Climate Risk Disclosure and Institutional Investors\nProf. Zacharias Sautner\, Frankfurt School of Finance & Management\n12:10 Closing remarks\nProf. Ulf von Lilienfeld-Toal\, University of Luxembourg \nRegistration\nRegistration is required to join this event. Register here. \nShare this:Tweet
URL:https://www.abbl.lu/events/sustainable-finance-sounding-good-or-doing-good-webinar/
LOCATION:Virtual Conference (webinar)
ATTACH;FMTTYPE=image/png:https://www.abbl.lu/content/uploads/2021/03/academia_meets_industry_sustainable_finance_sounding_good_or_doing_good_medium.png
END:VEVENT
END:VCALENDAR