BEGIN:VCALENDAR
VERSION:2.0
PRODID:-//ABBL - ECPv5.1.6//NONSGML v1.0//EN
CALSCALE:GREGORIAN
METHOD:PUBLISH
X-WR-CALNAME:ABBL
X-ORIGINAL-URL:https://www.abbl.lu
X-WR-CALDESC:Events for ABBL
BEGIN:VTIMEZONE
TZID:Europe/Luxembourg
BEGIN:DAYLIGHT
TZOFFSETFROM:+0100
TZOFFSETTO:+0200
TZNAME:CEST
DTSTART:20210328T010000
END:DAYLIGHT
BEGIN:STANDARD
TZOFFSETFROM:+0200
TZOFFSETTO:+0100
TZNAME:CET
DTSTART:20211031T010000
END:STANDARD
END:VTIMEZONE
BEGIN:VEVENT
DTSTART;VALUE=DATE:20210322
DTEND;VALUE=DATE:20210327
DTSTAMP:20210423T112934
CREATED:20181211T131743Z
LAST-MODIFIED:20210105T074933Z
UID:10252-1616371200-1616803199@www.abbl.lu
SUMMARY:Woch vun de Suen - 2021
DESCRIPTION:  \n  \n \n \nInscriptions\nNous vous invitons à nous transmettre les informations suivantes pour le 26 février 2021 au plus tard : \n\n    Notice: JavaScript is required for this content.\n\n    \n\n\n        \n        \n         \nEn communiquant les données ci-dessus\, vous autorisez l’ABBL à traiter vos données personnelles. \nContact : \nJessica Thyrion\nFinancial Education Adviser\ninfo@suen.lu \n \n  \n  \nOrganisé par la Fondation ABBL pour l’éducation financière\, en collaboration avec la Chambre de Commerce. \nAvec le soutien du Ministère de l’Education nationale\, de l’Enfance et de la Jeunesse. \n  \nShare this:Tweet
URL:https://www.abbl.lu/events/woch-vun-de-suen-2021/
LOCATION:Classes du cycle 4\, Luxembourg
ATTACH;FMTTYPE=image/jpeg:https://www.abbl.lu/content/uploads/2017/06/mascotte.jpg
END:VEVENT
END:VCALENDAR